BEGIN:VCALENDAR
METHOD:PUBLISH
CALSCALE:GREGORIAN
PRODID:Elbphilharmonie
VERSION:2.0
BEGIN:VTIMEZONE
TZID:Europe/Berlin
BEGIN:DAYLIGHT
TZOFFSETFROM:+0100
TZOFFSETTO:+0200
TZNAME:CEST
DTSTART:20200329T010000
RRULE:FREQ=YEARLY;INTERVAL=1;BYDAY=-1SU;BYMONTH=3
END:DAYLIGHT
BEGIN:STANDARD
TZOFFSETFROM:+0200
TZOFFSETTO:+0100
TZNAME:CET
DTSTART:20201025T010000
RRULE:FREQ=YEARLY;INTERVAL=1;BYDAY=-1SU;BYMONTH=10
END:STANDARD
END:VTIMEZONE
BEGIN:VEVENT
DTSTAMP:20260423T230000Z
DTSTART:20261113T183000Z
DTEND:20261113T203000Z
LOCATION:Elbphilharmonie Kleiner Saal
SUMMARY:Trio Gaspard
DESCRIPTION:Besetzung\nTrio Gaspard\nVashti Hunter: Violoncello\nNicholas 
 Rimmer: Klavier\nJonian-Ilja Kadesha: Violine\n\nProgramm\nBedřich Smetan
 a\nKlaviertrio g-Moll op. 15\nJosef Suk\nElegie op. 23\n– Pause – \n
 Antonín Dvořák\nKlaviertrio e-Moll op. 90 »Dumky-Trio«
UID:event28004@Elbphilharmonie.de
URL:https://www.elbphilharmonie.de/de/programm/trio-gaspard/28004
END:VEVENT
END:VCALENDAR
