BEGIN:VCALENDAR
METHOD:PUBLISH
CALSCALE:GREGORIAN
PRODID:Elbphilharmonie
VERSION:2.0
BEGIN:VTIMEZONE
TZID:Europe/Berlin
BEGIN:DAYLIGHT
TZOFFSETFROM:+0100
TZOFFSETTO:+0200
TZNAME:CEST
DTSTART:20200329T010000
RRULE:FREQ=YEARLY;INTERVAL=1;BYDAY=-1SU;BYMONTH=3
END:DAYLIGHT
BEGIN:STANDARD
TZOFFSETFROM:+0200
TZOFFSETTO:+0100
TZNAME:CET
DTSTART:20201025T010000
RRULE:FREQ=YEARLY;INTERVAL=1;BYDAY=-1SU;BYMONTH=10
END:STANDARD
END:VTIMEZONE
BEGIN:VEVENT
DTSTAMP:20260423T151200Z
DTSTART:20261117T190000Z
DTEND:20261117T213000Z
LOCATION:Elbphilharmonie Großer Saal
SUMMARY:Thierry Escaich\, Orgel
DESCRIPTION:Besetzung\nThierry Escaich: Orgel\n\nProgramm\n»Mirrored Danc
 es«\nJean-Baptiste Lully\nOuvertüre zu »Le bourgeois gentilhomme« / Be
 arbeitung für Orgel von Thierry Escaich\nClaude Gervaise\nSixième livre 
 de danceries / Bearbeitung für Orgel (Auswahl)\nJehan Alain\nVariations s
 ur un thème de Clément Janequin\nLitanies\nJohann Sebastian Bach\nFantas
 ie c-Moll BWV 562\nFuge G-Dur BWV 577\nThierry Escaich\nImprovisationen: A
 ndante und Scherzo\nLouis Vierne\nNaïades / aus: Pièces de fantaisie\, S
 uite Nr. 4 op. 55\nIgor Strawinsky / Pierre Pincemaille\nL’oiseau de fe
 u (Der Feuervogel) / Auszüge\nThierry Escaich\nÉvocation I\nÉvocation I
 I\nAstor Piazzolla\nFugata / aus: Tangata »Silfo y Ondina«\nThierry Esca
 ich\nImprovisationen: Sinfonische Tänze
UID:event27976@Elbphilharmonie.de
URL:https://www.elbphilharmonie.de/de/programm/thierry-escaich-orgel/27976
END:VEVENT
END:VCALENDAR
