BEGIN:VCALENDAR
METHOD:PUBLISH
CALSCALE:GREGORIAN
PRODID:Elbphilharmonie
VERSION:2.0
BEGIN:VTIMEZONE
TZID:Europe/Berlin
BEGIN:DAYLIGHT
TZOFFSETFROM:+0100
TZOFFSETTO:+0200
TZNAME:CEST
DTSTART:20200329T010000
RRULE:FREQ=YEARLY;INTERVAL=1;BYDAY=-1SU;BYMONTH=3
END:DAYLIGHT
BEGIN:STANDARD
TZOFFSETFROM:+0200
TZOFFSETTO:+0100
TZNAME:CET
DTSTART:20201025T010000
RRULE:FREQ=YEARLY;INTERVAL=1;BYDAY=-1SU;BYMONTH=10
END:STANDARD
END:VTIMEZONE
BEGIN:VEVENT
DTSTAMP:20260423T200900Z
DTSTART:20261127T190000Z
DTEND:20261127T203000Z
LOCATION:Elbphilharmonie Kleiner Saal
SUMMARY:The Music of Rhiannon Giddens / Silk Road Ensemble
DESCRIPTION:Besetzung\nMazz Swift: Violine\nTim-Erik Winzer: Viola\nKaren 
 Ouzounian: Violoncello\nShawn Conley: Kontrabass\nLara Downes: Klavier\n\n
 Programm\n»Omar and Lucy\, Black Stories Real and Imagined«\nThe Music o
 f Rhiannon Giddens featuring members of the Silkroad Ensemble
UID:event27983@Elbphilharmonie.de
URL:https://www.elbphilharmonie.de/de/programm/the-music-of-rhiannon-gidde
 ns-silk-road-ensemble/27983
END:VEVENT
END:VCALENDAR
