BEGIN:VCALENDAR
METHOD:PUBLISH
CALSCALE:GREGORIAN
PRODID:Elbphilharmonie
VERSION:2.0
BEGIN:VTIMEZONE
TZID:Europe/Berlin
BEGIN:DAYLIGHT
TZOFFSETFROM:+0100
TZOFFSETTO:+0200
TZNAME:CEST
DTSTART:20200329T010000
RRULE:FREQ=YEARLY;INTERVAL=1;BYDAY=-1SU;BYMONTH=3
END:DAYLIGHT
BEGIN:STANDARD
TZOFFSETFROM:+0200
TZOFFSETTO:+0100
TZNAME:CET
DTSTART:20201025T010000
RRULE:FREQ=YEARLY;INTERVAL=1;BYDAY=-1SU;BYMONTH=10
END:STANDARD
END:VTIMEZONE
BEGIN:VEVENT
DTSTAMP:20260423T121100Z
DTSTART:20261101T183000Z
DTEND:20261101T200000Z
LOCATION:Elbphilharmonie Kleiner Saal
SUMMARY:Tania Saleh
DESCRIPTION:Besetzung\nTania Saleh: vocals\nMohamed Najem: clarinet\, ney\
 nGhassen Fendri: guitar\nØyvind Kristiansen: keyboard\nChristophe Borilla
 : bass\nEdouard Feuvrier: drums\n\nProgramm\n»Fragile«\nLibanesische Sin
 ger-Songwriterin und prägende Stimme der arabischen Indie-Szene
UID:event28430@Elbphilharmonie.de
URL:https://www.elbphilharmonie.de/de/programm/tania-saleh/28430
END:VEVENT
END:VCALENDAR
