BEGIN:VCALENDAR
METHOD:PUBLISH
CALSCALE:GREGORIAN
PRODID:Elbphilharmonie
VERSION:2.0
BEGIN:VTIMEZONE
TZID:Europe/Berlin
BEGIN:DAYLIGHT
TZOFFSETFROM:+0100
TZOFFSETTO:+0200
TZNAME:CEST
DTSTART:20200329T010000
RRULE:FREQ=YEARLY;INTERVAL=1;BYDAY=-1SU;BYMONTH=3
END:DAYLIGHT
BEGIN:STANDARD
TZOFFSETFROM:+0200
TZOFFSETTO:+0100
TZNAME:CET
DTSTART:20201025T010000
RRULE:FREQ=YEARLY;INTERVAL=1;BYDAY=-1SU;BYMONTH=10
END:STANDARD
END:VTIMEZONE
BEGIN:VEVENT
DTSTAMP:20260423T164400Z
DTSTART:20261129T100000Z
DTEND:20261129T130000Z
LOCATION:Laeiszhalle Großer Saal
SUMMARY:Symphoniker Hamburg / Timothy Ridout / Sylvain Cambreling
DESCRIPTION:Besetzung\nSymphoniker Hamburg\nTimothy Ridout: Viola\nDirigen
 t: Sylvain Cambreling\n\nProgramm\nWolfgang Amadeus Mozart\nSinfonie G-Dur
  KV 318\nKonzert für Klarinette und Orchester A-Dur KV 622 / Bearbeitung 
 für Viola\n– Pause – \nWolfgang Amadeus Mozart\nSinfonie g-Moll KV 55
 0
UID:event28068@Elbphilharmonie.de
URL:https://www.elbphilharmonie.de/de/programm/symphoniker-hamburg-timothy
 -ridout-sylvain-cambreling/28068
END:VEVENT
END:VCALENDAR
