BEGIN:VCALENDAR
METHOD:PUBLISH
CALSCALE:GREGORIAN
PRODID:Elbphilharmonie
VERSION:2.0
BEGIN:VTIMEZONE
TZID:Europe/Berlin
BEGIN:DAYLIGHT
TZOFFSETFROM:+0100
TZOFFSETTO:+0200
TZNAME:CEST
DTSTART:20200329T010000
RRULE:FREQ=YEARLY;INTERVAL=1;BYDAY=-1SU;BYMONTH=3
END:DAYLIGHT
BEGIN:STANDARD
TZOFFSETFROM:+0200
TZOFFSETTO:+0100
TZNAME:CET
DTSTART:20201025T010000
RRULE:FREQ=YEARLY;INTERVAL=1;BYDAY=-1SU;BYMONTH=10
END:STANDARD
END:VTIMEZONE
BEGIN:VEVENT
DTSTAMP:20260423T183100Z
DTSTART:20270418T170000Z
DTEND:20270418T200000Z
LOCATION:Laeiszhalle Großer Saal
SUMMARY:Symphoniker Hamburg / Sylvain Cambreling
DESCRIPTION:Besetzung\nSymphoniker Hamburg\nSandrine Piau: Sopran\nDirigen
 t: Sylvain Cambreling\n\nProgramm\nPiotr I. Tschaikowsky\nFantasie-Ouvert
 üre h-Moll »Romeo und Julia«\nPhilippe Boesmans\nL’eau douce du pardo
 n\n– Pause – \nWolfgang Amadeus Mozart\nAusgwählte Arien aus »Le noz
 ze di Figaro«\nIgor Strawinsky\nLe sacre du printemps / Bilder aus dem he
 idnischen Russland
UID:event28051@Elbphilharmonie.de
URL:https://www.elbphilharmonie.de/de/programm/symphoniker-hamburg-sylvain
 -cambreling/28051
END:VEVENT
END:VCALENDAR
