BEGIN:VCALENDAR
METHOD:PUBLISH
CALSCALE:GREGORIAN
PRODID:Elbphilharmonie
VERSION:2.0
BEGIN:VTIMEZONE
TZID:Europe/Berlin
BEGIN:DAYLIGHT
TZOFFSETFROM:+0100
TZOFFSETTO:+0200
TZNAME:CEST
DTSTART:20200329T010000
RRULE:FREQ=YEARLY;INTERVAL=1;BYDAY=-1SU;BYMONTH=3
END:DAYLIGHT
BEGIN:STANDARD
TZOFFSETFROM:+0200
TZOFFSETTO:+0100
TZNAME:CET
DTSTART:20201025T010000
RRULE:FREQ=YEARLY;INTERVAL=1;BYDAY=-1SU;BYMONTH=10
END:STANDARD
END:VTIMEZONE
BEGIN:VEVENT
DTSTAMP:20260423T200900Z
DTSTART:20270620T170000Z
DTEND:20270620T190000Z
LOCATION:Laeiszhalle Großer Saal
SUMMARY:Symphoniker Hamburg / Martha Argerich / Andris Poga
DESCRIPTION:Besetzung\nSymphoniker Hamburg\nMartha Argerich: Klavier\nDiri
 gent: Andris Poga\n\nProgramm\nLudwig van Beethoven\nKonzert für Klavier 
 und Orchester Nr. 1 C-Dur op. 15\n– Pause – \nAnton Bruckner\nSinfoni
 e Nr. 9 d-Moll
UID:event28053@Elbphilharmonie.de
URL:https://www.elbphilharmonie.de/de/programm/symphoniker-hamburg-martha-
 argerich-andris-poga/28053
END:VEVENT
END:VCALENDAR
