BEGIN:VCALENDAR
METHOD:PUBLISH
CALSCALE:GREGORIAN
PRODID:Elbphilharmonie
VERSION:2.0
BEGIN:VTIMEZONE
TZID:Europe/Berlin
BEGIN:DAYLIGHT
TZOFFSETFROM:+0100
TZOFFSETTO:+0200
TZNAME:CEST
DTSTART:20200329T010000
RRULE:FREQ=YEARLY;INTERVAL=1;BYDAY=-1SU;BYMONTH=3
END:DAYLIGHT
BEGIN:STANDARD
TZOFFSETFROM:+0200
TZOFFSETTO:+0100
TZNAME:CET
DTSTART:20201025T010000
RRULE:FREQ=YEARLY;INTERVAL=1;BYDAY=-1SU;BYMONTH=10
END:STANDARD
END:VTIMEZONE
BEGIN:VEVENT
DTSTAMP:20260423T164500Z
DTSTART:20261108T180000Z
DTEND:20261108T210000Z
LOCATION:Laeiszhalle Großer Saal
SUMMARY:Symphoniker Hamburg / Lukáš Vondráček / David Afkham
DESCRIPTION:Besetzung\nSymphoniker Hamburg\nLukáš Vondráček: Klavier\n
 Dirigent: David Afkham\n\nProgramm\nUnsuk Chin\nsubito con forza\nLudwig v
 an Beethoven\nKonzert für Klavier und Orchester Nr. 3 c-Moll op. 37\n–
  Pause – \nJohannes Brahms\nSinfonie Nr. 1 c-Moll op. 68
UID:event28046@Elbphilharmonie.de
URL:https://www.elbphilharmonie.de/de/programm/symphoniker-hamburg-lukas-v
 ondracek-david-afkham/28046
END:VEVENT
END:VCALENDAR
