BEGIN:VCALENDAR
METHOD:PUBLISH
CALSCALE:GREGORIAN
PRODID:Elbphilharmonie
VERSION:2.0
BEGIN:VTIMEZONE
TZID:Europe/Berlin
BEGIN:DAYLIGHT
TZOFFSETFROM:+0100
TZOFFSETTO:+0200
TZNAME:CEST
DTSTART:20200329T010000
RRULE:FREQ=YEARLY;INTERVAL=1;BYDAY=-1SU;BYMONTH=3
END:DAYLIGHT
BEGIN:STANDARD
TZOFFSETFROM:+0200
TZOFFSETTO:+0100
TZNAME:CET
DTSTART:20201025T010000
RRULE:FREQ=YEARLY;INTERVAL=1;BYDAY=-1SU;BYMONTH=10
END:STANDARD
END:VTIMEZONE
BEGIN:VEVENT
DTSTAMP:20260423T152800Z
DTSTART:20260920T170000Z
DTEND:20260920T200000Z
LOCATION:Laeiszhalle Großer Saal
SUMMARY:Symphoniker Hamburg / Jennifer Holloway / Sylvain Cambreling
DESCRIPTION:Besetzung\nSymphoniker Hamburg\nJennifer Holloway: Sopran\nDir
 igent: Sylvain Cambreling\n\nProgramm\nLudwig van Beethoven\nDie Geschöpf
 e des Prometheus op. 43 (Auszüge)\nRichard Wagner\nFünf Gedichte für F
 rauenstimme und Klavier WWV 91A »Wesendonck-Lieder« / Bearbeitung für S
 opran und Orchester\n– Pause – \nHans Zender\nSchumann-Fantasie
UID:event28044@Elbphilharmonie.de
URL:https://www.elbphilharmonie.de/de/programm/symphoniker-hamburg-jennife
 r-holloway-sylvain-cambreling/28044
END:VEVENT
END:VCALENDAR
