BEGIN:VCALENDAR
METHOD:PUBLISH
CALSCALE:GREGORIAN
PRODID:Elbphilharmonie
VERSION:2.0
BEGIN:VTIMEZONE
TZID:Europe/Berlin
BEGIN:DAYLIGHT
TZOFFSETFROM:+0100
TZOFFSETTO:+0200
TZNAME:CEST
DTSTART:20200329T010000
RRULE:FREQ=YEARLY;INTERVAL=1;BYDAY=-1SU;BYMONTH=3
END:DAYLIGHT
BEGIN:STANDARD
TZOFFSETFROM:+0200
TZOFFSETTO:+0100
TZNAME:CET
DTSTART:20201025T010000
RRULE:FREQ=YEARLY;INTERVAL=1;BYDAY=-1SU;BYMONTH=10
END:STANDARD
END:VTIMEZONE
BEGIN:VEVENT
DTSTAMP:20260423T164400Z
DTSTART:20261015T173000Z
DTEND:20261015T200000Z
LOCATION:Laeiszhalle Großer Saal
SUMMARY:Symphoniker Hamburg / Edgar Moreau / Anna Ratikina
DESCRIPTION:Besetzung\nSymphoniker Hamburg\nEdgar Moreau: Violoncello\nDir
 igentin: Anna Rakitina\n\nProgramm\nRalph Vaughan Williams\nFantasie über
  ein Thema von Thomas Tallis\nPiotr I. Tschaikowsky\nVariationen über ein
  Rokoko-Thema für Violoncello und Orchester A-Dur op. 33\n– Pause – 
 \nAntonín Dvořák\nSinfonie Nr. 7 d-Moll op. 70
UID:event28054@Elbphilharmonie.de
URL:https://www.elbphilharmonie.de/de/programm/symphoniker-hamburg-edgar-m
 oreau-anna-ratikina/28054
END:VEVENT
END:VCALENDAR
