BEGIN:VCALENDAR
METHOD:PUBLISH
CALSCALE:GREGORIAN
PRODID:Elbphilharmonie
VERSION:2.0
BEGIN:VTIMEZONE
TZID:Europe/Berlin
BEGIN:DAYLIGHT
TZOFFSETFROM:+0100
TZOFFSETTO:+0200
TZNAME:CEST
DTSTART:20200329T010000
RRULE:FREQ=YEARLY;INTERVAL=1;BYDAY=-1SU;BYMONTH=3
END:DAYLIGHT
BEGIN:STANDARD
TZOFFSETFROM:+0200
TZOFFSETTO:+0100
TZNAME:CET
DTSTART:20201025T010000
RRULE:FREQ=YEARLY;INTERVAL=1;BYDAY=-1SU;BYMONTH=10
END:STANDARD
END:VTIMEZONE
BEGIN:VEVENT
DTSTAMP:20260424T165800Z
DTSTART:20270101T180000Z
DTEND:20270101T200000Z
LOCATION:Laeiszhalle Großer Saal
SUMMARY:Symphoniker Hamburg / Alexander Briger
DESCRIPTION:Besetzung\nCPE.Bach.Chor.Hamburg\nSymphoniker Hamburg\nMandy F
 redrich: Sopran\nSophie Harmsen: Alt\nAJ Glueckert: Tenor\nTobias Schabel:
  Bass\nAlexander Briger: Dirigent\n\nProgramm\nLudwig van Beethoven\nSinfo
 nie Nr. 9 d-Moll op. 125
UID:event28075@Elbphilharmonie.de
URL:https://www.elbphilharmonie.de/de/programm/symphoniker-hamburg-alexand
 er-briger/28075
END:VEVENT
END:VCALENDAR
