BEGIN:VCALENDAR
METHOD:PUBLISH
CALSCALE:GREGORIAN
PRODID:Elbphilharmonie
VERSION:2.0
BEGIN:VTIMEZONE
TZID:Europe/Berlin
BEGIN:DAYLIGHT
TZOFFSETFROM:+0100
TZOFFSETTO:+0200
TZNAME:CEST
DTSTART:20200329T010000
RRULE:FREQ=YEARLY;INTERVAL=1;BYDAY=-1SU;BYMONTH=3
END:DAYLIGHT
BEGIN:STANDARD
TZOFFSETFROM:+0200
TZOFFSETTO:+0100
TZNAME:CET
DTSTART:20201025T010000
RRULE:FREQ=YEARLY;INTERVAL=1;BYDAY=-1SU;BYMONTH=10
END:STANDARD
END:VTIMEZONE
BEGIN:VEVENT
DTSTAMP:20260423T155700Z
DTSTART:20270316T190000Z
DTEND:20270316T204500Z
LOCATION:Laeiszhalle Kleiner Saal
SUMMARY:Sylvie Courvoisier’s Chimaera
DESCRIPTION:Besetzung\nChimaera: jazz ensemble\nNate Wooley: trumpet\nSylv
 ie Courvoisier: piano\nChristian Fennesz: guitar\nDrew Gress: bass\nKenny 
 Wollesen: vibraphone\, drums\nNasheet Waits: drums\n
UID:event28026@Elbphilharmonie.de
URL:https://www.elbphilharmonie.de/de/programm/sylvie-courvoisiers-chimaer
 a/28026
END:VEVENT
END:VCALENDAR
