BEGIN:VCALENDAR
METHOD:PUBLISH
CALSCALE:GREGORIAN
PRODID:Elbphilharmonie
VERSION:2.0
BEGIN:VTIMEZONE
TZID:Europe/Berlin
BEGIN:DAYLIGHT
TZOFFSETFROM:+0100
TZOFFSETTO:+0200
TZNAME:CEST
DTSTART:20200329T010000
RRULE:FREQ=YEARLY;INTERVAL=1;BYDAY=-1SU;BYMONTH=3
END:DAYLIGHT
BEGIN:STANDARD
TZOFFSETFROM:+0200
TZOFFSETTO:+0100
TZNAME:CET
DTSTART:20201025T010000
RRULE:FREQ=YEARLY;INTERVAL=1;BYDAY=-1SU;BYMONTH=10
END:STANDARD
END:VTIMEZONE
BEGIN:VEVENT
DTSTAMP:20260423T180000Z
DTSTART:20261129T190000Z
DTEND:20261129T203000Z
LOCATION:Elbphilharmonie Großer Saal
SUMMARY:Silkroad Ensemble featuring Rhiannon Giddens
DESCRIPTION:Besetzung\nSilkroad Ensemble\nRhiannon Giddens: vocals\, banjo
 \, artistic director\nMazz Swift: violin\nKaren Ouzounian: violoncello\nSh
 awn Conley: double bass\nNiwel Tsumbu: guitar\nFrancesco Turrisi: frame dr
 ums\, accordion\nMehdi Nassouli: gimbri\nMauro Durante: percussion\n\nProg
 ramm\n»Sanctuary« – The Power of Resonance and Ritual
UID:event28164@Elbphilharmonie.de
URL:https://www.elbphilharmonie.de/de/programm/silkroad-ensemble-featuring
 -rhiannon-giddens/28164
END:VEVENT
END:VCALENDAR
