BEGIN:VCALENDAR
METHOD:PUBLISH
CALSCALE:GREGORIAN
PRODID:Elbphilharmonie
VERSION:2.0
BEGIN:VTIMEZONE
TZID:Europe/Berlin
BEGIN:DAYLIGHT
TZOFFSETFROM:+0100
TZOFFSETTO:+0200
TZNAME:CEST
DTSTART:20200329T010000
RRULE:FREQ=YEARLY;INTERVAL=1;BYDAY=-1SU;BYMONTH=3
END:DAYLIGHT
BEGIN:STANDARD
TZOFFSETFROM:+0200
TZOFFSETTO:+0100
TZNAME:CET
DTSTART:20201025T010000
RRULE:FREQ=YEARLY;INTERVAL=1;BYDAY=-1SU;BYMONTH=10
END:STANDARD
END:VTIMEZONE
BEGIN:VEVENT
DTSTAMP:20260424T131700Z
DTSTART:20261212T190000Z
DTEND:20261212T210000Z
LOCATION:Elbphilharmonie Großer Saal
SUMMARY:Shake Stew
DESCRIPTION:Besetzung\nShake Stew\nLukas Kranzelbinder: bass\nMario Rom: t
 rumpet\nYvonne Moriel: alto saxophone\nJohannes Schleiermacher: saxophone\
 nOliver Potratz: bass\nNiki Dolp: drums\nHerbert Pirker: drums\n\nProgramm
 \n»TEN ONE TWO«
UID:event28008@Elbphilharmonie.de
URL:https://www.elbphilharmonie.de/de/programm/shake-stew/28008
END:VEVENT
END:VCALENDAR
