BEGIN:VCALENDAR
METHOD:PUBLISH
CALSCALE:GREGORIAN
PRODID:Elbphilharmonie
VERSION:2.0
BEGIN:VTIMEZONE
TZID:Europe/Berlin
BEGIN:DAYLIGHT
TZOFFSETFROM:+0100
TZOFFSETTO:+0200
TZNAME:CEST
DTSTART:20200329T010000
RRULE:FREQ=YEARLY;INTERVAL=1;BYDAY=-1SU;BYMONTH=3
END:DAYLIGHT
BEGIN:STANDARD
TZOFFSETFROM:+0200
TZOFFSETTO:+0100
TZNAME:CET
DTSTART:20201025T010000
RRULE:FREQ=YEARLY;INTERVAL=1;BYDAY=-1SU;BYMONTH=10
END:STANDARD
END:VTIMEZONE
BEGIN:VEVENT
DTSTAMP:20260423T164500Z
DTSTART:20270504T180000Z
DTEND:20270504T203000Z
LOCATION:Elbphilharmonie Großer Saal
SUMMARY:Schumann: Szenen aus Goethes »Faust« / Thomas Hengelbrock
DESCRIPTION:Besetzung\nBalthasar-Neumann-Chor und -Orchester\nKonstantin K
 rimmel: Faust\nKatharina Ruckgaber: Gretchen\nJulian Prégardien: Ariel\, 
 Pater Ecstaticus\nFlorian Boesch: Mephistopheles\nDomen Križaj: Pater Pro
 fundus\nMarie Lys: Sorge\, jüngerer Engel\nDirigent: Thomas Hengelbrock\n
 \nProgramm\nRobert Schumann\nSzenen aus Goethes »Faust« für Soli\, Chor
  und Orchester WoO 3
UID:event28402@Elbphilharmonie.de
URL:https://www.elbphilharmonie.de/de/programm/schumann-szenen-aus-goethes
 -faust-thomas-hengelbrock/28402
END:VEVENT
END:VCALENDAR
