BEGIN:VCALENDAR
METHOD:PUBLISH
CALSCALE:GREGORIAN
PRODID:Elbphilharmonie
VERSION:2.0
BEGIN:VTIMEZONE
TZID:Europe/Berlin
BEGIN:DAYLIGHT
TZOFFSETFROM:+0100
TZOFFSETTO:+0200
TZNAME:CEST
DTSTART:20200329T010000
RRULE:FREQ=YEARLY;INTERVAL=1;BYDAY=-1SU;BYMONTH=3
END:DAYLIGHT
BEGIN:STANDARD
TZOFFSETFROM:+0200
TZOFFSETTO:+0100
TZNAME:CET
DTSTART:20201025T010000
RRULE:FREQ=YEARLY;INTERVAL=1;BYDAY=-1SU;BYMONTH=10
END:STANDARD
END:VTIMEZONE
BEGIN:VEVENT
DTSTAMP:20260423T155800Z
DTSTART:20270409T093000Z
DTEND:20270409T103000Z
LOCATION:Elbphilharmonie Kleiner Saal
SUMMARY:Schulkonzert »What on Earth!«
DESCRIPTION:Besetzung\ninn.wien ensemble\nRegie\, Choreografie: Cornelia V
 oglmayr\nFlora Besenbäck: Bühne\, Kostüm\n\nProgramm\nDas Streichorches
 ter inn.wien spielt Musik von Antonio Vivaldi\, Ethel Smyth\, Edvard Grieg
 \, Erwin Schulhoff\, Victoria \nYagling u.a.\nIn »What On Earth!« wagen 
 wir es zu träumen. Wir lachen\, spielen und scheitern – aber wir geben 
 nie auf! Wir glauben an uns und eine bessere Zukunft!
UID:event28513@Elbphilharmonie.de
URL:https://www.elbphilharmonie.de/de/programm/schulkonzert-what-on-earth/
 28513
END:VEVENT
END:VCALENDAR
