BEGIN:VCALENDAR
METHOD:PUBLISH
CALSCALE:GREGORIAN
PRODID:Elbphilharmonie
VERSION:2.0
BEGIN:VTIMEZONE
TZID:Europe/Berlin
BEGIN:DAYLIGHT
TZOFFSETFROM:+0100
TZOFFSETTO:+0200
TZNAME:CEST
DTSTART:20200329T010000
RRULE:FREQ=YEARLY;INTERVAL=1;BYDAY=-1SU;BYMONTH=3
END:DAYLIGHT
BEGIN:STANDARD
TZOFFSETFROM:+0200
TZOFFSETTO:+0100
TZNAME:CET
DTSTART:20201025T010000
RRULE:FREQ=YEARLY;INTERVAL=1;BYDAY=-1SU;BYMONTH=10
END:STANDARD
END:VTIMEZONE
BEGIN:VEVENT
DTSTAMP:20260423T155800Z
DTSTART:20270205T103000Z
DTEND:20270205T112000Z
LOCATION:Elbphilharmonie Kleiner Saal
SUMMARY:Schulkonzert »Viva Banana«
DESCRIPTION:Besetzung\nTocuyito Trio: Klaviertrio\nDalina Ugarte: Violine\
 nSanto Scala: Violoncello\nJoseph Avila: Klavier\nCaecilia Thunnissen: Reg
 ie\nSophie Baumgartner: Bühnenbild\nBartek Kubiak: Lichtdesign\n\nProgram
 m\nDie magische und feurige Welt venezolanischer Klänge und Rhythmen
UID:event28493@Elbphilharmonie.de
URL:https://www.elbphilharmonie.de/de/programm/schulkonzert-viva-banana/28
 493
END:VEVENT
END:VCALENDAR
