BEGIN:VCALENDAR
METHOD:PUBLISH
CALSCALE:GREGORIAN
PRODID:Elbphilharmonie
VERSION:2.0
BEGIN:VTIMEZONE
TZID:Europe/Berlin
BEGIN:DAYLIGHT
TZOFFSETFROM:+0100
TZOFFSETTO:+0200
TZNAME:CEST
DTSTART:20200329T010000
RRULE:FREQ=YEARLY;INTERVAL=1;BYDAY=-1SU;BYMONTH=3
END:DAYLIGHT
BEGIN:STANDARD
TZOFFSETFROM:+0200
TZOFFSETTO:+0100
TZNAME:CET
DTSTART:20201025T010000
RRULE:FREQ=YEARLY;INTERVAL=1;BYDAY=-1SU;BYMONTH=10
END:STANDARD
END:VTIMEZONE
BEGIN:VEVENT
DTSTAMP:20260423T142700Z
DTSTART:20270322T103000Z
DTEND:20270322T113000Z
LOCATION:Elbphilharmonie Kleiner Saal
SUMMARY:Schulkonzert »Reise in eine neue Welt«
DESCRIPTION:Besetzung\nEnsemble Resonanz\nDan Tanson: Regie\nKatrin Bethge
 : Visualisierungen\nMaj-Lene Tylkowski: Regie-Assistenz\n
UID:event28335@Elbphilharmonie.de
URL:https://www.elbphilharmonie.de/de/programm/schulkonzert-reise-in-eine-
 neue-welt/28335
END:VEVENT
END:VCALENDAR
