BEGIN:VCALENDAR
METHOD:PUBLISH
CALSCALE:GREGORIAN
PRODID:Elbphilharmonie
VERSION:2.0
BEGIN:VTIMEZONE
TZID:Europe/Berlin
BEGIN:DAYLIGHT
TZOFFSETFROM:+0100
TZOFFSETTO:+0200
TZNAME:CEST
DTSTART:20200329T010000
RRULE:FREQ=YEARLY;INTERVAL=1;BYDAY=-1SU;BYMONTH=3
END:DAYLIGHT
BEGIN:STANDARD
TZOFFSETFROM:+0200
TZOFFSETTO:+0100
TZNAME:CET
DTSTART:20201025T010000
RRULE:FREQ=YEARLY;INTERVAL=1;BYDAY=-1SU;BYMONTH=10
END:STANDARD
END:VTIMEZONE
BEGIN:VEVENT
DTSTAMP:20260423T230100Z
DTSTART:20270614T093000Z
DTEND:20270614T103000Z
LOCATION:Elbphilharmonie Kleiner Saal
SUMMARY:Schulkonzert »FEST«
DESCRIPTION:Besetzung\nJunior Akwety: Gesang\, Performance\nJochem Baelus:
  Percussion\, Performance\nLotte Vanhamel: Flöte\, Karinette\, Performanc
 e\nCharlotte Goesaert: Regie\, Choreographie\nGeert Custers: Lichtdesign\n
 Wim Muyllaert: Kostüme\n\nProgramm\nMacht euch bereit\, richtet euren Kop
 f auf\, räuspert euch. Denn es ist Zeit für eine festliche Revolution\, 
 Zeit für FEST!\nmit Songs aus dem Kongo\, Elementen aus Rumba\, Banto-Ele
 ktronik\, Deep House\, Hip-Hop und Rap
UID:event28505@Elbphilharmonie.de
URL:https://www.elbphilharmonie.de/de/programm/schulkonzert-fest/28505
END:VEVENT
END:VCALENDAR
