BEGIN:VCALENDAR
METHOD:PUBLISH
CALSCALE:GREGORIAN
PRODID:Elbphilharmonie
VERSION:2.0
BEGIN:VTIMEZONE
TZID:Europe/Berlin
BEGIN:DAYLIGHT
TZOFFSETFROM:+0100
TZOFFSETTO:+0200
TZNAME:CEST
DTSTART:20200329T010000
RRULE:FREQ=YEARLY;INTERVAL=1;BYDAY=-1SU;BYMONTH=3
END:DAYLIGHT
BEGIN:STANDARD
TZOFFSETFROM:+0200
TZOFFSETTO:+0100
TZNAME:CET
DTSTART:20201025T010000
RRULE:FREQ=YEARLY;INTERVAL=1;BYDAY=-1SU;BYMONTH=10
END:STANDARD
END:VTIMEZONE
BEGIN:VEVENT
DTSTAMP:20260423T151200Z
DTSTART:20261120T103000Z
DTEND:20261120T113000Z
LOCATION:Elbphilharmonie Kleiner Saal
SUMMARY:Schulkonzert »Es ist Zeit«
DESCRIPTION:Besetzung\nStudio Dan\nSophia Goidinger-Koch: Violine\nMaiken 
 Beer: Violoncello\nViola Falb: Saxofon\, Bassklarinette\nDaniel Riegler: K
 onzept\, Dramaturgie\, musikalische Leitung\nDamaris Richerts: Trompete\nR
 aphael Meinhart: Schlagwerk\nKirstin Schwab: Performance\nHelena Matzawrak
 os: Performance\nManfred Weissensteiner: Konzept\, Regie\nDavid Valentek: 
 Konzept\, Regieassistenz\nOxana Omelchuk: Komposition\nJohannes Schrettle:
  Text\nMilena Czernovsky: Bühne\nWerner Angerer: Klangregie\nTom Grassegg
 er: Lichtregie\n\nProgramm\nMusiktheater für Kinder ab 8 Jahren mit Musik
  von Oxana Omelchuk\nKompositionsauftrag von Studio Dan\, finanziert durch
  die Ernst von Siemens Musikstiftung
UID:event28446@Elbphilharmonie.de
URL:https://www.elbphilharmonie.de/de/programm/schulkonzert-es-ist-zeit/28
 446
END:VEVENT
END:VCALENDAR
