BEGIN:VCALENDAR
METHOD:PUBLISH
CALSCALE:GREGORIAN
PRODID:Elbphilharmonie
VERSION:2.0
BEGIN:VTIMEZONE
TZID:Europe/Berlin
BEGIN:DAYLIGHT
TZOFFSETFROM:+0100
TZOFFSETTO:+0200
TZNAME:CEST
DTSTART:20200329T010000
RRULE:FREQ=YEARLY;INTERVAL=1;BYDAY=-1SU;BYMONTH=3
END:DAYLIGHT
BEGIN:STANDARD
TZOFFSETFROM:+0200
TZOFFSETTO:+0100
TZNAME:CET
DTSTART:20201025T010000
RRULE:FREQ=YEARLY;INTERVAL=1;BYDAY=-1SU;BYMONTH=10
END:STANDARD
END:VTIMEZONE
BEGIN:VEVENT
DTSTAMP:20260423T200900Z
DTSTART:20270312T183000Z
DTEND:20270312T203000Z
LOCATION:Elbphilharmonie Großer Saal
SUMMARY:Sasha Waltz & Guests: »Beethoven 7«
DESCRIPTION:Besetzung\nSasha Waltz & Guests: Kompanie\nIl Pomo d’Oro\nDi
 rigent: Titus Engel\n\nProgramm\nLudwig van Beethoven\nSinfonie Nr. 7 A-Du
 r op. 92
UID:event28393@Elbphilharmonie.de
URL:https://www.elbphilharmonie.de/de/programm/sasha-waltz-guests-beethove
 n-7/28393
END:VEVENT
END:VCALENDAR
