BEGIN:VCALENDAR
METHOD:PUBLISH
CALSCALE:GREGORIAN
PRODID:Elbphilharmonie
VERSION:2.0
BEGIN:VTIMEZONE
TZID:Europe/Berlin
BEGIN:DAYLIGHT
TZOFFSETFROM:+0100
TZOFFSETTO:+0200
TZNAME:CEST
DTSTART:20200329T010000
RRULE:FREQ=YEARLY;INTERVAL=1;BYDAY=-1SU;BYMONTH=3
END:DAYLIGHT
BEGIN:STANDARD
TZOFFSETFROM:+0200
TZOFFSETTO:+0100
TZNAME:CET
DTSTART:20201025T010000
RRULE:FREQ=YEARLY;INTERVAL=1;BYDAY=-1SU;BYMONTH=10
END:STANDARD
END:VTIMEZONE
BEGIN:VEVENT
DTSTAMP:20260423T233300Z
DTSTART:20270503T180000Z
DTEND:20270503T200000Z
LOCATION:Elbphilharmonie Großer Saal
SUMMARY:San Diego Symphony / Leonidas Kavakos / Rafael Payare
DESCRIPTION:Besetzung\nSan Diego Symphony\nLeonidas Kavakos: Violine\nDiri
 gent: Rafael Payare\n\nProgramm\nGabriela Ortiz\nKauyumari\nDmitri Schosta
 kowitsch\nKonzert für Violine und Orchester Nr. 1 a-Moll op. 77\n– Pau
 se – \nBéla Bartók\nSuite aus »Der wunderbare Mandarin« op. 19 Sz 7
 3\nIgor Strawinsky\nL’oiseau de feu (Der Feuervogel) / Suite (Fassung vo
 n 1919)
UID:event28410@Elbphilharmonie.de
URL:https://www.elbphilharmonie.de/de/programm/san-diego-symphony-leonidas
 -kavakos-rafael-payare/28410
END:VEVENT
END:VCALENDAR
