BEGIN:VCALENDAR
METHOD:PUBLISH
CALSCALE:GREGORIAN
PRODID:Elbphilharmonie
VERSION:2.0
BEGIN:VTIMEZONE
TZID:Europe/Berlin
BEGIN:DAYLIGHT
TZOFFSETFROM:+0100
TZOFFSETTO:+0200
TZNAME:CEST
DTSTART:20200329T010000
RRULE:FREQ=YEARLY;INTERVAL=1;BYDAY=-1SU;BYMONTH=3
END:DAYLIGHT
BEGIN:STANDARD
TZOFFSETFROM:+0200
TZOFFSETTO:+0100
TZNAME:CET
DTSTART:20201025T010000
RRULE:FREQ=YEARLY;INTERVAL=1;BYDAY=-1SU;BYMONTH=10
END:STANDARD
END:VTIMEZONE
BEGIN:VEVENT
DTSTAMP:20260423T151200Z
DTSTART:20270426T170000Z
DTEND:20270426T200000Z
LOCATION:Elbphilharmonie Großer Saal
SUMMARY:Salieri: Falstaff / René Jacobs
DESCRIPTION:Besetzung\nB’Rock Orchestra\nKrešimir Stražanac: Sir John 
 Falstaff\nAnett Fritsch: Mrs Alice Ford\nGrégoire Mour: Mr Ford\nArttu Ka
 taja: Mr Slender\nRobert Gleadow: Bardolfo\nSunhae Im: Betty\nLeitung: Ren
 é Jacobs\n\nProgramm\nAntonio Salieri\nFalstaff ossia Le tre burle / Dram
 ma giocoso in zwei Akten\nKonzertante Aufführung in italienischer Sprache
  mit deutschen Übertiteln
UID:event28405@Elbphilharmonie.de
URL:https://www.elbphilharmonie.de/de/programm/salieri-falstaff-rene-jacob
 s/28405
END:VEVENT
END:VCALENDAR
