BEGIN:VCALENDAR
METHOD:PUBLISH
CALSCALE:GREGORIAN
PRODID:Elbphilharmonie
VERSION:2.0
BEGIN:VTIMEZONE
TZID:Europe/Berlin
BEGIN:DAYLIGHT
TZOFFSETFROM:+0100
TZOFFSETTO:+0200
TZNAME:CEST
DTSTART:20200329T010000
RRULE:FREQ=YEARLY;INTERVAL=1;BYDAY=-1SU;BYMONTH=3
END:DAYLIGHT
BEGIN:STANDARD
TZOFFSETFROM:+0200
TZOFFSETTO:+0100
TZNAME:CET
DTSTART:20201025T010000
RRULE:FREQ=YEARLY;INTERVAL=1;BYDAY=-1SU;BYMONTH=10
END:STANDARD
END:VTIMEZONE
BEGIN:VEVENT
DTSTAMP:20260423T111200Z
DTSTART:20270225T183000Z
DTEND:20270225T203000Z
LOCATION:Elbphilharmonie Kleiner Saal
SUMMARY:Robert Schumann: Der Rose Pilgerfahrt
DESCRIPTION:Besetzung\nBalthasar-Neumann-Chor und -Solisten\nVictoria Rand
 em: Sopran\nJulian Prégardien: Tenor\nAlexander Lonquich: Hammerklavier\n
 \nProgramm\nRobert Schumann\nArabeske C-Dur op. 18\nDer Rose Pilgerfahrt 
 / Märchen nach einer Dichtung von Moritz Horn op. 112
UID:event28202@Elbphilharmonie.de
URL:https://www.elbphilharmonie.de/de/programm/robert-schumann-der-rose-pi
 lgerfahrt/28202
END:VEVENT
END:VCALENDAR
