BEGIN:VCALENDAR
METHOD:PUBLISH
CALSCALE:GREGORIAN
PRODID:Elbphilharmonie
VERSION:2.0
BEGIN:VTIMEZONE
TZID:Europe/Berlin
BEGIN:DAYLIGHT
TZOFFSETFROM:+0100
TZOFFSETTO:+0200
TZNAME:CEST
DTSTART:20200329T010000
RRULE:FREQ=YEARLY;INTERVAL=1;BYDAY=-1SU;BYMONTH=3
END:DAYLIGHT
BEGIN:STANDARD
TZOFFSETFROM:+0200
TZOFFSETTO:+0100
TZNAME:CET
DTSTART:20201025T010000
RRULE:FREQ=YEARLY;INTERVAL=1;BYDAY=-1SU;BYMONTH=10
END:STANDARD
END:VTIMEZONE
BEGIN:VEVENT
DTSTAMP:20260423T161100Z
DTSTART:20261127T170000Z
DTEND:20261127T181500Z
LOCATION:Elbphilharmonie Kaistudio 1
SUMMARY:Rhiannon Giddens & Kristina Gaddy / Gespräch
DESCRIPTION:Besetzung\nRhiannon Giddens: Gespräch\nKristina Gaddy: Gespr
 äch\n\nProgramm\n»Go Back and Fetch It«\nRecovering Early Black Music i
 n the Americas for Fiddle and Banjo
UID:event28426@Elbphilharmonie.de
URL:https://www.elbphilharmonie.de/de/programm/rhiannon-giddens-kristina-g
 addy-gesprach/28426
END:VEVENT
END:VCALENDAR
