BEGIN:VCALENDAR
METHOD:PUBLISH
CALSCALE:GREGORIAN
PRODID:Elbphilharmonie
VERSION:2.0
BEGIN:VTIMEZONE
TZID:Europe/Berlin
BEGIN:DAYLIGHT
TZOFFSETFROM:+0100
TZOFFSETTO:+0200
TZNAME:CEST
DTSTART:20200329T010000
RRULE:FREQ=YEARLY;INTERVAL=1;BYDAY=-1SU;BYMONTH=3
END:DAYLIGHT
BEGIN:STANDARD
TZOFFSETFROM:+0200
TZOFFSETTO:+0100
TZNAME:CET
DTSTART:20201025T010000
RRULE:FREQ=YEARLY;INTERVAL=1;BYDAY=-1SU;BYMONTH=10
END:STANDARD
END:VTIMEZONE
BEGIN:VEVENT
DTSTAMP:20260423T151200Z
DTSTART:20261128T193000Z
DTEND:20261128T213000Z
LOCATION:Elbphilharmonie Großer Saal
SUMMARY:Rhiannon Giddens & Friends
DESCRIPTION:Besetzung\nRhiannon Giddens: vocals\nMazz Swift: violin\, voca
 ls\nJustin Robinson: violin\, vocals\nLeyla McCalla: banjo\, guitar\, voca
 ls\nDemeanor: banjo\, bones\, vocals\nNiwel Tsumbu: guitar\, vocals\nLoah:
  guitar\, vocals\nMehdi Nassouli: gimbri\, vocals\nSeckou Keita: kora\, vo
 cals\n\nProgramm\n»The People Could Fly«\nAfrican Diasporic Re-Connectio
 ns Across the Atlantic
UID:event28165@Elbphilharmonie.de
URL:https://www.elbphilharmonie.de/de/programm/rhiannon-giddens-friends/28
 165
END:VEVENT
END:VCALENDAR
