BEGIN:VCALENDAR
METHOD:PUBLISH
CALSCALE:GREGORIAN
PRODID:Elbphilharmonie
VERSION:2.0
BEGIN:VTIMEZONE
TZID:Europe/Berlin
BEGIN:DAYLIGHT
TZOFFSETFROM:+0100
TZOFFSETTO:+0200
TZNAME:CEST
DTSTART:20200329T010000
RRULE:FREQ=YEARLY;INTERVAL=1;BYDAY=-1SU;BYMONTH=3
END:DAYLIGHT
BEGIN:STANDARD
TZOFFSETFROM:+0200
TZOFFSETTO:+0100
TZNAME:CET
DTSTART:20201025T010000
RRULE:FREQ=YEARLY;INTERVAL=1;BYDAY=-1SU;BYMONTH=10
END:STANDARD
END:VTIMEZONE
BEGIN:VEVENT
DTSTAMP:20260423T195400Z
DTSTART:20261030T203000Z
DTEND:20261030T213000Z
LOCATION:Elbphilharmonie Kleiner Saal
SUMMARY:Rayess Bek & Joan Baz
DESCRIPTION:Besetzung\nWaël Koudaih: live electronics\nJoan Baz: video-mo
 ntage\nRima Ben Brahim: lighting design\n\nProgramm\n»Chayyel – Take Fl
 ight\, Break Free\, Improvise«\nTraditional Dabke music and dance reshape
 d and transformed.\nAn audiovisual and electronic improvisation.
UID:event28671@Elbphilharmonie.de
URL:https://www.elbphilharmonie.de/de/programm/rayess-bek-joan-baz/28671
END:VEVENT
END:VCALENDAR
