BEGIN:VCALENDAR
METHOD:PUBLISH
CALSCALE:GREGORIAN
PRODID:Elbphilharmonie
VERSION:2.0
BEGIN:VTIMEZONE
TZID:Europe/Berlin
BEGIN:DAYLIGHT
TZOFFSETFROM:+0100
TZOFFSETTO:+0200
TZNAME:CEST
DTSTART:20200329T010000
RRULE:FREQ=YEARLY;INTERVAL=1;BYDAY=-1SU;BYMONTH=3
END:DAYLIGHT
BEGIN:STANDARD
TZOFFSETFROM:+0200
TZOFFSETTO:+0100
TZNAME:CET
DTSTART:20201025T010000
RRULE:FREQ=YEARLY;INTERVAL=1;BYDAY=-1SU;BYMONTH=10
END:STANDARD
END:VTIMEZONE
BEGIN:VEVENT
DTSTAMP:20260423T115500Z
DTSTART:20270310T190000Z
DTEND:20270310T210000Z
LOCATION:Elbphilharmonie Großer Saal
SUMMARY:Ravi Coltrane / David Virelles / Bob Hurst / Jeff Watts / Brandee 
 Younger
DESCRIPTION:Besetzung\nRavi Coltrane: saxophone\nDavid Virelles: piano\nBo
 b Hurst: bass\nJeff »Tain« Watts: drums\nBrandee Younger: harp\n\nProgra
 mm\n»Translinear Light: The Music of Alice Coltrane«
UID:event28024@Elbphilharmonie.de
URL:https://www.elbphilharmonie.de/de/programm/ravi-coltrane-david-virelle
 s-bob-hurst-jeff-watts-brandee-younger/28024
END:VEVENT
END:VCALENDAR
