BEGIN:VCALENDAR
METHOD:PUBLISH
CALSCALE:GREGORIAN
PRODID:Elbphilharmonie
VERSION:2.0
BEGIN:VTIMEZONE
TZID:Europe/Berlin
BEGIN:DAYLIGHT
TZOFFSETFROM:+0100
TZOFFSETTO:+0200
TZNAME:CEST
DTSTART:20200329T010000
RRULE:FREQ=YEARLY;INTERVAL=1;BYDAY=-1SU;BYMONTH=3
END:DAYLIGHT
BEGIN:STANDARD
TZOFFSETFROM:+0200
TZOFFSETTO:+0100
TZNAME:CET
DTSTART:20201025T010000
RRULE:FREQ=YEARLY;INTERVAL=1;BYDAY=-1SU;BYMONTH=10
END:STANDARD
END:VTIMEZONE
BEGIN:VEVENT
DTSTAMP:20260424T021600Z
DTSTART:20270530T123000Z
DTEND:20270530T143000Z
LOCATION:Laeiszhalle Großer Saal
SUMMARY:»Raupe Anna und der große Traum«
DESCRIPTION:Besetzung\nSymphoniker Hamburg\nDirigent: Vilmantas Kaliunas\n
 Anna-Maria Arkona: Moderation\nMalte Arkona: Moderation\n\nProgramm\nNikol
 ai Rimski-Korsakow\nHummelflug / aus der Oper »Das Märchen vom Zaren Sal
 tan«\nPiotr I. Tschaikowsky\nSchwanensee (Auszüge)\nund vieles mehr
UID:event28067@Elbphilharmonie.de
URL:https://www.elbphilharmonie.de/de/programm/raupe-anna-und-der-groe-tra
 um/28067
END:VEVENT
END:VCALENDAR
