BEGIN:VCALENDAR
METHOD:PUBLISH
CALSCALE:GREGORIAN
PRODID:Elbphilharmonie
VERSION:2.0
BEGIN:VTIMEZONE
TZID:Europe/Berlin
BEGIN:DAYLIGHT
TZOFFSETFROM:+0100
TZOFFSETTO:+0200
TZNAME:CEST
DTSTART:20200329T010000
RRULE:FREQ=YEARLY;INTERVAL=1;BYDAY=-1SU;BYMONTH=3
END:DAYLIGHT
BEGIN:STANDARD
TZOFFSETFROM:+0200
TZOFFSETTO:+0100
TZNAME:CET
DTSTART:20201025T010000
RRULE:FREQ=YEARLY;INTERVAL=1;BYDAY=-1SU;BYMONTH=10
END:STANDARD
END:VTIMEZONE
BEGIN:VEVENT
DTSTAMP:20260423T121000Z
DTSTART:20270304T183000Z
DTEND:20270304T201500Z
LOCATION:Elbphilharmonie Kleiner Saal
SUMMARY:Ratko & Radiša Teofilović
DESCRIPTION:Besetzung\nRatko Teofilović: Gesang\nRadiša Teofilović: Ges
 ang\nNebojša Jovan Živković: Marimba\n\nProgramm\nTraditionelle Gesäng
 e vom Balkan
UID:event28658@Elbphilharmonie.de
URL:https://www.elbphilharmonie.de/de/programm/ratko-radisa-teofilovic/286
 58
END:VEVENT
END:VCALENDAR
