BEGIN:VCALENDAR
METHOD:PUBLISH
CALSCALE:GREGORIAN
PRODID:Elbphilharmonie
VERSION:2.0
BEGIN:VTIMEZONE
TZID:Europe/Berlin
BEGIN:DAYLIGHT
TZOFFSETFROM:+0100
TZOFFSETTO:+0200
TZNAME:CEST
DTSTART:20200329T010000
RRULE:FREQ=YEARLY;INTERVAL=1;BYDAY=-1SU;BYMONTH=3
END:DAYLIGHT
BEGIN:STANDARD
TZOFFSETFROM:+0200
TZOFFSETTO:+0100
TZNAME:CET
DTSTART:20201025T010000
RRULE:FREQ=YEARLY;INTERVAL=1;BYDAY=-1SU;BYMONTH=10
END:STANDARD
END:VTIMEZONE
BEGIN:VEVENT
DTSTAMP:20260423T195400Z
DTSTART:20270529T180000Z
DTEND:20270529T200000Z
LOCATION:Laeiszhalle Großer Saal
SUMMARY:Purcell: The Fairy Queen
DESCRIPTION:Besetzung\nVox Luminis: Chor und Orchester\nBass und Leitung: 
 Lionel Meunier\n\nProgramm\nHenry Purcell\nThe Fairy Queen / Semi-Opera in
  fünf Akten Z 629\nKonzertante Aufführung in englischer Sprache
UID:event28648@Elbphilharmonie.de
URL:https://www.elbphilharmonie.de/de/programm/purcell-the-fairy-queen/286
 48
END:VEVENT
END:VCALENDAR
