BEGIN:VCALENDAR
METHOD:PUBLISH
CALSCALE:GREGORIAN
PRODID:Elbphilharmonie
VERSION:2.0
BEGIN:VTIMEZONE
TZID:Europe/Berlin
BEGIN:DAYLIGHT
TZOFFSETFROM:+0100
TZOFFSETTO:+0200
TZNAME:CEST
DTSTART:20200329T010000
RRULE:FREQ=YEARLY;INTERVAL=1;BYDAY=-1SU;BYMONTH=3
END:DAYLIGHT
BEGIN:STANDARD
TZOFFSETFROM:+0200
TZOFFSETTO:+0100
TZNAME:CET
DTSTART:20201025T010000
RRULE:FREQ=YEARLY;INTERVAL=1;BYDAY=-1SU;BYMONTH=10
END:STANDARD
END:VTIMEZONE
BEGIN:VEVENT
DTSTAMP:20260423T133800Z
DTSTART:20261023T180000Z
DTEND:20261023T203000Z
LOCATION:Elbphilharmonie Großer Saal
SUMMARY:Piotr Anderszewski / Klavierabend
DESCRIPTION:Besetzung\nPiotr Anderszewski: Klavier\n\nProgramm\nJohannes B
 rahms\nIntermezzo h-Moll op. 119/1\nIntermezzo C-Dur op. 119/3\nIntermez
 zo a-Moll op. 118/1\nIntermezzo A-Dur op. 118/2\nIntermezzo a-Moll op. 
 116/2\nCapriccio g-Moll op. 116/3\nIntermezzo E-Dur op. 116/4\nIntermezz
 o e-Moll op. 116/5\nIntermezzo cis-Moll op. 117/3\nRhapsodie Es-Dur op.
  119/4\nIntermezzo b-Moll op. 117/2\nIntermezzo es-Moll op. 118/6\n– 
 Pause – \nLudwig van Beethoven\nSonate für Klavier c-Moll op. 111
UID:event28036@Elbphilharmonie.de
URL:https://www.elbphilharmonie.de/de/programm/piotr-anderszewski-klaviera
 bend/28036
END:VEVENT
END:VCALENDAR
