BEGIN:VCALENDAR
METHOD:PUBLISH
CALSCALE:GREGORIAN
PRODID:Elbphilharmonie
VERSION:2.0
BEGIN:VTIMEZONE
TZID:Europe/Berlin
BEGIN:DAYLIGHT
TZOFFSETFROM:+0100
TZOFFSETTO:+0200
TZNAME:CEST
DTSTART:20200329T010000
RRULE:FREQ=YEARLY;INTERVAL=1;BYDAY=-1SU;BYMONTH=3
END:DAYLIGHT
BEGIN:STANDARD
TZOFFSETFROM:+0200
TZOFFSETTO:+0100
TZNAME:CET
DTSTART:20201025T010000
RRULE:FREQ=YEARLY;INTERVAL=1;BYDAY=-1SU;BYMONTH=10
END:STANDARD
END:VTIMEZONE
BEGIN:VEVENT
DTSTAMP:20260424T114400Z
DTSTART:20270121T183000Z
DTEND:20270121T202000Z
LOCATION:Elbphilharmonie Kleiner Saal
SUMMARY:Petar Pejčić\, Violoncello
DESCRIPTION:Besetzung\nPetar Pejčić: Violoncello\nNour Ayadi: Klavier\n\
 nProgramm\nNadia Boulanger\nTrois Pièces für Violoncello und Klavier\nSe
 rgej Prokofjew\nSonate C-Dur op. 119 für Violoncello und Klavier\nĐuro 
 Živković\nNeues Werk\nMstislav Rostropovich\nHumoreske für Violoncello 
 und Klavier d-Moll op. 5\n– Pause – \nDmitri Schostakowitsch\nSonate 
 für Violoncello und Klavier d-Moll op. 40\nAstor Piazzolla\nLe Grand Tan
 go
UID:event28150@Elbphilharmonie.de
URL:https://www.elbphilharmonie.de/de/programm/petar-pejcic-violoncello/28
 150
END:VEVENT
END:VCALENDAR
