BEGIN:VCALENDAR
METHOD:PUBLISH
CALSCALE:GREGORIAN
PRODID:Elbphilharmonie
VERSION:2.0
BEGIN:VTIMEZONE
TZID:Europe/Berlin
BEGIN:DAYLIGHT
TZOFFSETFROM:+0100
TZOFFSETTO:+0200
TZNAME:CEST
DTSTART:20200329T010000
RRULE:FREQ=YEARLY;INTERVAL=1;BYDAY=-1SU;BYMONTH=3
END:DAYLIGHT
BEGIN:STANDARD
TZOFFSETFROM:+0200
TZOFFSETTO:+0100
TZNAME:CET
DTSTART:20201025T010000
RRULE:FREQ=YEARLY;INTERVAL=1;BYDAY=-1SU;BYMONTH=10
END:STANDARD
END:VTIMEZONE
BEGIN:VEVENT
DTSTAMP:20260424T030900Z
DTSTART:20260904T180000Z
DTEND:20260904T200000Z
LOCATION:Elbphilharmonie Großer Saal
SUMMARY:Opening Night: NDR Elbphilharmonie Orchester / Stephan Cürlis / A
 lan Gilbert
DESCRIPTION:Besetzung\nNDR Elbphilharmonie Orchester\nStephan Cürlis: Pau
 ke\nDirigent: Alan Gilbert\n\nProgramm\nJames Oliverio\nKonzert für Pauke
  und Orchester Nr. 3 »Legacy Ascendant«\n– Pause – \nGustav Mahler\n
 Sinfonie Nr. 6 a-Moll
UID:event27822@Elbphilharmonie.de
URL:https://www.elbphilharmonie.de/de/programm/opening-night-ndr-elbphilha
 rmonie-orchester-stephan-curlis-alan-gilbert/27822
END:VEVENT
END:VCALENDAR
