BEGIN:VCALENDAR
METHOD:PUBLISH
CALSCALE:GREGORIAN
PRODID:Elbphilharmonie
VERSION:2.0
BEGIN:VTIMEZONE
TZID:Europe/Berlin
BEGIN:DAYLIGHT
TZOFFSETFROM:+0100
TZOFFSETTO:+0200
TZNAME:CEST
DTSTART:20200329T010000
RRULE:FREQ=YEARLY;INTERVAL=1;BYDAY=-1SU;BYMONTH=3
END:DAYLIGHT
BEGIN:STANDARD
TZOFFSETFROM:+0200
TZOFFSETTO:+0100
TZNAME:CET
DTSTART:20201025T010000
RRULE:FREQ=YEARLY;INTERVAL=1;BYDAY=-1SU;BYMONTH=10
END:STANDARD
END:VTIMEZONE
BEGIN:VEVENT
DTSTAMP:20260423T151200Z
DTSTART:20270306T190000Z
DTEND:20270306T220000Z
LOCATION:Elbphilharmonie Großer Saal
SUMMARY:Nono: Prometeo
DESCRIPTION:Besetzung\nSWR Symphonieorchester\nSchola Heidelberg: Vokalens
 emble\nSWR Experimentalstudio\nDirigent: François-Xavier Roth\n\nProgramm
 \nLuigi Nono\nPrometeo / Tragedia dell’ascolto\, a cura di M. Cacciari\n
 für im Raum verteilte Solisten\, Chor\, vier Orchestergruppen und Live-El
 ektronik
UID:event28391@Elbphilharmonie.de
URL:https://www.elbphilharmonie.de/de/programm/nono-prometeo/28391
END:VEVENT
END:VCALENDAR
