BEGIN:VCALENDAR
METHOD:PUBLISH
CALSCALE:GREGORIAN
PRODID:Elbphilharmonie
VERSION:2.0
BEGIN:VTIMEZONE
TZID:Europe/Berlin
BEGIN:DAYLIGHT
TZOFFSETFROM:+0100
TZOFFSETTO:+0200
TZNAME:CEST
DTSTART:20200329T010000
RRULE:FREQ=YEARLY;INTERVAL=1;BYDAY=-1SU;BYMONTH=3
END:DAYLIGHT
BEGIN:STANDARD
TZOFFSETFROM:+0200
TZOFFSETTO:+0100
TZNAME:CET
DTSTART:20201025T010000
RRULE:FREQ=YEARLY;INTERVAL=1;BYDAY=-1SU;BYMONTH=10
END:STANDARD
END:VTIMEZONE
BEGIN:VEVENT
DTSTAMP:20260422T232600Z
DTSTART:20261022T180000Z
DTEND:20261022T210000Z
LOCATION:Elbphilharmonie Großer Saal
SUMMARY:Nik Bärtsch’s Ronin
DESCRIPTION:Besetzung\nNik Bärtsch's Ronin\nNik Bärtsch: Klavier\nSha: K
 larinette\nJeremias Keller: bass\nKaspar Rast: Schlagzeug\n
UID:event28840@Elbphilharmonie.de
URL:https://www.elbphilharmonie.de/de/programm/nik-bartschs-ronin/28840
END:VEVENT
END:VCALENDAR
