BEGIN:VCALENDAR
METHOD:PUBLISH
CALSCALE:GREGORIAN
PRODID:Elbphilharmonie
VERSION:2.0
BEGIN:VTIMEZONE
TZID:Europe/Berlin
BEGIN:DAYLIGHT
TZOFFSETFROM:+0100
TZOFFSETTO:+0200
TZNAME:CEST
DTSTART:20200329T010000
RRULE:FREQ=YEARLY;INTERVAL=1;BYDAY=-1SU;BYMONTH=3
END:DAYLIGHT
BEGIN:STANDARD
TZOFFSETFROM:+0200
TZOFFSETTO:+0100
TZNAME:CET
DTSTART:20201025T010000
RRULE:FREQ=YEARLY;INTERVAL=1;BYDAY=-1SU;BYMONTH=10
END:STANDARD
END:VTIMEZONE
BEGIN:VEVENT
DTSTAMP:20260423T124300Z
DTSTART:20270131T190000Z
DTEND:20270131T220000Z
LOCATION:Elbphilharmonie Großer Saal
SUMMARY:NDR Radiophilharmonie / Hildegard Lernt Fliegen / Mariano Chiacchi
 arini
DESCRIPTION:Besetzung\nNDR Radiophilharmonie\nHildegard Lernt Fliegen: Jaz
 zensemble\nMatthias Wenger: Saxofon\nMarco Müller: Kontrabass\nAndreas Ts
 chopp: Tuba\nBenedikt Reising: Saxofon\nAndreas Schaerer: Gesang\, Stimme\
 nChristoph Steiner: Schlagwerk\nDirigent: Mariano Chiacchiarini\n\nProgram
 m\nAndreas Schaerer\nThe Big Wig\nDas Konzert findet ohne Pause statt.
UID:event28473@Elbphilharmonie.de
URL:https://www.elbphilharmonie.de/de/programm/ndr-radiophilharmonie-hilde
 gard-lernt-fliegen-mariano-chiacchiarini/28473
END:VEVENT
END:VCALENDAR
