BEGIN:VCALENDAR
METHOD:PUBLISH
CALSCALE:GREGORIAN
PRODID:Elbphilharmonie
VERSION:2.0
BEGIN:VTIMEZONE
TZID:Europe/Berlin
BEGIN:DAYLIGHT
TZOFFSETFROM:+0100
TZOFFSETTO:+0200
TZNAME:CEST
DTSTART:20200329T010000
RRULE:FREQ=YEARLY;INTERVAL=1;BYDAY=-1SU;BYMONTH=3
END:DAYLIGHT
BEGIN:STANDARD
TZOFFSETFROM:+0200
TZOFFSETTO:+0100
TZNAME:CET
DTSTART:20201025T010000
RRULE:FREQ=YEARLY;INTERVAL=1;BYDAY=-1SU;BYMONTH=10
END:STANDARD
END:VTIMEZONE
BEGIN:VEVENT
DTSTAMP:20260423T151200Z
DTSTART:20270426T180000Z
DTEND:20270426T200000Z
LOCATION:Rolf-Liebermann-Studio
SUMMARY:NDR Kammerkonzert
DESCRIPTION:Besetzung\nNoah Quartett\nAlexandra Psareva: Violine\nMichael 
 Stürzinger: Violine\nErik Wenbo Xu: Viola\nBettina Barbara Bertsch: Violo
 ncello\n\nProgramm\nLudwig van Beethoven\nStreichquartett B-Dur op. 18/6\
 nStreichquartett a-Moll op. 132
UID:event28218@Elbphilharmonie.de
URL:https://www.elbphilharmonie.de/de/programm/ndr-kammerkonzert/28218
END:VEVENT
END:VCALENDAR
