BEGIN:VCALENDAR
METHOD:PUBLISH
CALSCALE:GREGORIAN
PRODID:Elbphilharmonie
VERSION:2.0
BEGIN:VTIMEZONE
TZID:Europe/Berlin
BEGIN:DAYLIGHT
TZOFFSETFROM:+0100
TZOFFSETTO:+0200
TZNAME:CEST
DTSTART:20200329T010000
RRULE:FREQ=YEARLY;INTERVAL=1;BYDAY=-1SU;BYMONTH=3
END:DAYLIGHT
BEGIN:STANDARD
TZOFFSETFROM:+0200
TZOFFSETTO:+0100
TZNAME:CET
DTSTART:20201025T010000
RRULE:FREQ=YEARLY;INTERVAL=1;BYDAY=-1SU;BYMONTH=10
END:STANDARD
END:VTIMEZONE
BEGIN:VEVENT
DTSTAMP:20260423T133800Z
DTSTART:20270209T183000Z
DTEND:20270209T203000Z
LOCATION:Elbphilharmonie Kleiner Saal
SUMMARY:NDR Kammerkonzert
DESCRIPTION:Besetzung\nNoah Quartett\nAlexandra Psareva: Violine\nMichael 
 Stürzinger: Violine\nErik Wenbo Xu: Viola\nBettina Barbara Bertsch: Violo
 ncello\n\nProgramm\nLudwig van Beethoven\nStreichquartett c-Moll op. 18/4
 \nStreichquartett f-Moll op. 95 »Quartetto serioso«\nStreichquartett F-
 Dur op. 59/1
UID:event28214@Elbphilharmonie.de
URL:https://www.elbphilharmonie.de/de/programm/ndr-kammerkonzert/28214
END:VEVENT
END:VCALENDAR
