BEGIN:VCALENDAR
METHOD:PUBLISH
CALSCALE:GREGORIAN
PRODID:Elbphilharmonie
VERSION:2.0
BEGIN:VTIMEZONE
TZID:Europe/Berlin
BEGIN:DAYLIGHT
TZOFFSETFROM:+0100
TZOFFSETTO:+0200
TZNAME:CEST
DTSTART:20200329T010000
RRULE:FREQ=YEARLY;INTERVAL=1;BYDAY=-1SU;BYMONTH=3
END:DAYLIGHT
BEGIN:STANDARD
TZOFFSETFROM:+0200
TZOFFSETTO:+0100
TZNAME:CET
DTSTART:20201025T010000
RRULE:FREQ=YEARLY;INTERVAL=1;BYDAY=-1SU;BYMONTH=10
END:STANDARD
END:VTIMEZONE
BEGIN:VEVENT
DTSTAMP:20260423T151200Z
DTSTART:20270427T173000Z
DTEND:20270427T193000Z
LOCATION:Elbphilharmonie Kleiner Saal
SUMMARY:NDR Kammerkonzert
DESCRIPTION:Besetzung\nElphier-Quartett\nLjudmila Minnibaeva: Violine\nYih
 ua Jin-Mengel: Violine\nAlla Rutter: Viola\nSebastian Gaede: Violoncello\n
 Julius Beck: Violine\nPhillip Wentrup: Violoncello\nAndreas Grünkorn: Vio
 loncello\n\nProgramm\nLudwig van Beethoven\nStreichquartett F-Dur op. 18/
 1\nStreichquartett B-Dur op. 130\nStreichquartett B-Dur op. 130 / mit Gr
 oßer Fuge B-Dur op. 133
UID:event28212@Elbphilharmonie.de
URL:https://www.elbphilharmonie.de/de/programm/ndr-kammerkonzert/28212
END:VEVENT
END:VCALENDAR
