BEGIN:VCALENDAR
METHOD:PUBLISH
CALSCALE:GREGORIAN
PRODID:Elbphilharmonie
VERSION:2.0
BEGIN:VTIMEZONE
TZID:Europe/Berlin
BEGIN:DAYLIGHT
TZOFFSETFROM:+0100
TZOFFSETTO:+0200
TZNAME:CEST
DTSTART:20200329T010000
RRULE:FREQ=YEARLY;INTERVAL=1;BYDAY=-1SU;BYMONTH=3
END:DAYLIGHT
BEGIN:STANDARD
TZOFFSETFROM:+0200
TZOFFSETTO:+0100
TZNAME:CET
DTSTART:20201025T010000
RRULE:FREQ=YEARLY;INTERVAL=1;BYDAY=-1SU;BYMONTH=10
END:STANDARD
END:VTIMEZONE
BEGIN:VEVENT
DTSTAMP:20260423T151200Z
DTSTART:20260922T173000Z
DTEND:20260922T193000Z
LOCATION:Elbphilharmonie Kleiner Saal
SUMMARY:NDR Kammerkonzert
DESCRIPTION:Besetzung\nMitglieder des NDR Elbphilharmonie Orchesters\n\nPr
 ogramm\nWolfgang Amadeus Mozart\nTrio für Klarinette\, Viola und Klavier 
 Es-Dur KV 498 »Kegelstatt-Trio«\nRobert Schumann\nMärchenerzählungen o
 p. 132\nGyörgy Kurtág\nHommage à R.Sch. für Klarinette\, Viola und Kl
 avier op. 15d\nsowie Werke von Julius Ockert und Anna Theegarten
UID:event28209@Elbphilharmonie.de
URL:https://www.elbphilharmonie.de/de/programm/ndr-kammerkonzert/28209
END:VEVENT
END:VCALENDAR
