BEGIN:VCALENDAR
METHOD:PUBLISH
CALSCALE:GREGORIAN
PRODID:Elbphilharmonie
VERSION:2.0
BEGIN:VTIMEZONE
TZID:Europe/Berlin
BEGIN:DAYLIGHT
TZOFFSETFROM:+0100
TZOFFSETTO:+0200
TZNAME:CEST
DTSTART:20200329T010000
RRULE:FREQ=YEARLY;INTERVAL=1;BYDAY=-1SU;BYMONTH=3
END:DAYLIGHT
BEGIN:STANDARD
TZOFFSETFROM:+0200
TZOFFSETTO:+0100
TZNAME:CET
DTSTART:20201025T010000
RRULE:FREQ=YEARLY;INTERVAL=1;BYDAY=-1SU;BYMONTH=10
END:STANDARD
END:VTIMEZONE
BEGIN:VEVENT
DTSTAMP:20260423T151300Z
DTSTART:20260905T180000Z
DTEND:20260905T200000Z
LOCATION:Elbphilharmonie Großer Saal
SUMMARY:NDR Elbphilharmonie Orchester / Stephan Cürlis / Alan Gilbert
DESCRIPTION:Besetzung\nNDR Elbphilharmonie Orchester\nStephan Cürlis: Pau
 ke\nDirigent: Alan Gilbert\n\nProgramm\nJames Oliverio\nKonzert für Pauke
  und Orchester Nr. 3 »Legacy Ascendant«\n– Pause – \nGustav Mahler\n
 Sinfonie Nr. 6 a-Moll
UID:event27821@Elbphilharmonie.de
URL:https://www.elbphilharmonie.de/de/programm/ndr-elbphilharmonie-orchest
 er-stephan-curlis-alan-gilbert/27821
END:VEVENT
END:VCALENDAR
