BEGIN:VCALENDAR
METHOD:PUBLISH
CALSCALE:GREGORIAN
PRODID:Elbphilharmonie
VERSION:2.0
BEGIN:VTIMEZONE
TZID:Europe/Berlin
BEGIN:DAYLIGHT
TZOFFSETFROM:+0100
TZOFFSETTO:+0200
TZNAME:CEST
DTSTART:20200329T010000
RRULE:FREQ=YEARLY;INTERVAL=1;BYDAY=-1SU;BYMONTH=3
END:DAYLIGHT
BEGIN:STANDARD
TZOFFSETFROM:+0200
TZOFFSETTO:+0100
TZNAME:CET
DTSTART:20201025T010000
RRULE:FREQ=YEARLY;INTERVAL=1;BYDAY=-1SU;BYMONTH=10
END:STANDARD
END:VTIMEZONE
BEGIN:VEVENT
DTSTAMP:20260423T195600Z
DTSTART:20270121T190000Z
DTEND:20270121T205000Z
LOCATION:Elbphilharmonie Großer Saal
SUMMARY:NDR Elbphilharmonie Orchester / Pablo Ferrández / Manfred Honeck
DESCRIPTION:Besetzung\nNDR Elbphilharmonie Orchester\nPablo Ferrández: Vi
 oloncello\nDirigent: Manfred Honeck\n\nProgramm\nJüri Reinvere\nSchade\, 
 zu spät\nJoseph Haydn\nSinfonie G-Dur Hob. I:100 »Militär-Sinfonie«\n
 – Pause – \nAntonín Dvořák\nKonzert für Violoncello und Orchester 
 h-Moll op. 104
UID:event27843@Elbphilharmonie.de
URL:https://www.elbphilharmonie.de/de/programm/ndr-elbphilharmonie-orchest
 er-pablo-ferrandez-manfred-honeck/27843
END:VEVENT
END:VCALENDAR
