BEGIN:VCALENDAR
METHOD:PUBLISH
CALSCALE:GREGORIAN
PRODID:Elbphilharmonie
VERSION:2.0
BEGIN:VTIMEZONE
TZID:Europe/Berlin
BEGIN:DAYLIGHT
TZOFFSETFROM:+0100
TZOFFSETTO:+0200
TZNAME:CEST
DTSTART:20200329T010000
RRULE:FREQ=YEARLY;INTERVAL=1;BYDAY=-1SU;BYMONTH=3
END:DAYLIGHT
BEGIN:STANDARD
TZOFFSETFROM:+0200
TZOFFSETTO:+0100
TZNAME:CET
DTSTART:20201025T010000
RRULE:FREQ=YEARLY;INTERVAL=1;BYDAY=-1SU;BYMONTH=10
END:STANDARD
END:VTIMEZONE
BEGIN:VEVENT
DTSTAMP:20260423T115400Z
DTSTART:20270416T180000Z
DTEND:20270416T201500Z
LOCATION:Elbphilharmonie Großer Saal
SUMMARY:NDR Elbphilharmonie Orchester / NDR Vokalensemble / Jonathan Stock
 hammer
DESCRIPTION:Besetzung\nNDR Elbphilharmonie Orchester\nNDR Vokalensemble\nT
 hird Coast Percussion\nIlya Gringolts: Violine\nDirigent: Jonathan Stockha
 mmer\nDirigentin: Heide Müller\n\nProgramm\n»Apocalyptic Triptych«\nMis
 sy Mazzoli\nYear of Our Burning\nMillennium Canticles\n– Pause – \nMis
 sy Mazzoli\nViolinkonzert »Procession«\nIgor Strawinsky\nSinfonie in dre
 i Sätzen
UID:event27851@Elbphilharmonie.de
URL:https://www.elbphilharmonie.de/de/programm/ndr-elbphilharmonie-orchest
 er-ndr-vokalensemble-jonathan-stockhammer/27851
END:VEVENT
END:VCALENDAR
