BEGIN:VCALENDAR
METHOD:PUBLISH
CALSCALE:GREGORIAN
PRODID:Elbphilharmonie
VERSION:2.0
BEGIN:VTIMEZONE
TZID:Europe/Berlin
BEGIN:DAYLIGHT
TZOFFSETFROM:+0100
TZOFFSETTO:+0200
TZNAME:CEST
DTSTART:20200329T010000
RRULE:FREQ=YEARLY;INTERVAL=1;BYDAY=-1SU;BYMONTH=3
END:DAYLIGHT
BEGIN:STANDARD
TZOFFSETFROM:+0200
TZOFFSETTO:+0100
TZNAME:CET
DTSTART:20201025T010000
RRULE:FREQ=YEARLY;INTERVAL=1;BYDAY=-1SU;BYMONTH=10
END:STANDARD
END:VTIMEZONE
BEGIN:VEVENT
DTSTAMP:20260423T214000Z
DTSTART:20270528T180000Z
DTEND:20270528T200000Z
LOCATION:Elbphilharmonie Großer Saal
SUMMARY:NDR Elbphilharmonie Orchester / MDR Rundfunkchor / Alan Gilbert
DESCRIPTION:Besetzung\nNDR Elbphilharmonie Orchester\nMDR-Rundfunkchor\nMi
 chael Schade: Oedipus\nJamie Barton: Iokaste\nMatthias Goerne: Kreon\nMorr
 is Robinson: Teiresias\nN.N.: Sprecher\nDirigent: Alan Gilbert\n\nProgramm
 \nIgor Strawinsky\nOedipus Rex / Opern-Oratorium in zwei Akten für Sprech
 er\, Soli\, Männerchor und Orchester\n– Pause – \nIgor Strawinsky\nLe
  sacre du printemps / Bilder aus dem heidnischen Russland
UID:event27859@Elbphilharmonie.de
URL:https://www.elbphilharmonie.de/de/programm/ndr-elbphilharmonie-orchest
 er-mdr-rundfunkchor-alan-gilbert/27859
END:VEVENT
END:VCALENDAR
