BEGIN:VCALENDAR
METHOD:PUBLISH
CALSCALE:GREGORIAN
PRODID:Elbphilharmonie
VERSION:2.0
BEGIN:VTIMEZONE
TZID:Europe/Berlin
BEGIN:DAYLIGHT
TZOFFSETFROM:+0100
TZOFFSETTO:+0200
TZNAME:CEST
DTSTART:20200329T010000
RRULE:FREQ=YEARLY;INTERVAL=1;BYDAY=-1SU;BYMONTH=3
END:DAYLIGHT
BEGIN:STANDARD
TZOFFSETFROM:+0200
TZOFFSETTO:+0100
TZNAME:CET
DTSTART:20201025T010000
RRULE:FREQ=YEARLY;INTERVAL=1;BYDAY=-1SU;BYMONTH=10
END:STANDARD
END:VTIMEZONE
BEGIN:VEVENT
DTSTAMP:20260423T200800Z
DTSTART:20270613T090000Z
DTEND:20270613T111500Z
LOCATION:Elbphilharmonie Großer Saal
SUMMARY:NDR Elbphilharmonie Orchester / Marius Neset / Leif Ove Andsnes / 
 Tabita Berglund
DESCRIPTION:Besetzung\nNDR Elbphilharmonie Orchester\nMarius Neset: Saxofo
 n\nLeif Ove Andsnes: Klavier\nDirigentin: Tabita Berglund\n\nProgramm\nCla
 ude Debussy\nLa cathédrale engloutie / aus: Douze Préludes\, Buch 2\nMar
 ius Neset\nChaconne\nPrague’s Ballet\nFrancis Poulenc\nSextett für Blä
 serquintett und Klavier FP 100\n– Pause – \nMaurice Ravel\nLe tombeau 
 de Couperin\nBenjamin Britten\nKonzert für Klavier und Orchester op. 13
UID:event27863@Elbphilharmonie.de
URL:https://www.elbphilharmonie.de/de/programm/ndr-elbphilharmonie-orchest
 er-marius-neset-leif-ove-andsnes-tabita-berglund/27863
END:VEVENT
END:VCALENDAR
