BEGIN:VCALENDAR
METHOD:PUBLISH
CALSCALE:GREGORIAN
PRODID:Elbphilharmonie
VERSION:2.0
BEGIN:VTIMEZONE
TZID:Europe/Berlin
BEGIN:DAYLIGHT
TZOFFSETFROM:+0100
TZOFFSETTO:+0200
TZNAME:CEST
DTSTART:20200329T010000
RRULE:FREQ=YEARLY;INTERVAL=1;BYDAY=-1SU;BYMONTH=3
END:DAYLIGHT
BEGIN:STANDARD
TZOFFSETFROM:+0200
TZOFFSETTO:+0100
TZNAME:CET
DTSTART:20201025T010000
RRULE:FREQ=YEARLY;INTERVAL=1;BYDAY=-1SU;BYMONTH=10
END:STANDARD
END:VTIMEZONE
BEGIN:VEVENT
DTSTAMP:20260423T183100Z
DTSTART:20261113T190000Z
DTEND:20261113T205000Z
LOCATION:Elbphilharmonie Großer Saal
SUMMARY:NDR Elbphilharmonie Orchester / Marek Janowski
DESCRIPTION:Besetzung\nNDR Elbphilharmonie Orchester\nDirigent: Marek Jano
 wski\n\nProgramm\nFranz Schubert\nSinfonie Nr. 7 h-Moll D 759 »Unvollende
 te«\n– Pause – \nAnton Bruckner\nSinfonie Nr. 3 d-Moll
UID:event27836@Elbphilharmonie.de
URL:https://www.elbphilharmonie.de/de/programm/ndr-elbphilharmonie-orchest
 er-marek-janowski/27836
END:VEVENT
END:VCALENDAR
