BEGIN:VCALENDAR
METHOD:PUBLISH
CALSCALE:GREGORIAN
PRODID:Elbphilharmonie
VERSION:2.0
BEGIN:VTIMEZONE
TZID:Europe/Berlin
BEGIN:DAYLIGHT
TZOFFSETFROM:+0100
TZOFFSETTO:+0200
TZNAME:CEST
DTSTART:20200329T010000
RRULE:FREQ=YEARLY;INTERVAL=1;BYDAY=-1SU;BYMONTH=3
END:DAYLIGHT
BEGIN:STANDARD
TZOFFSETFROM:+0200
TZOFFSETTO:+0100
TZNAME:CET
DTSTART:20201025T010000
RRULE:FREQ=YEARLY;INTERVAL=1;BYDAY=-1SU;BYMONTH=10
END:STANDARD
END:VTIMEZONE
BEGIN:VEVENT
DTSTAMP:20260423T181800Z
DTSTART:20260920T090000Z
DTEND:20260920T105000Z
LOCATION:Elbphilharmonie Großer Saal
SUMMARY:NDR Elbphilharmonie Orchester / Mao Fujita / Cristian Măcelaru
DESCRIPTION:Besetzung\nNDR Elbphilharmonie Orchester\nMao Fujita: Klavier\
 nDirigent: Cristian Măcelaru\n\nProgramm\nMissy Mazzoli\nSinfonia (for Or
 biting Spheres)\nSergej Rachmaninow\nKonzert für Klavier und Orchester Nr
 . 3 d-Moll op. 30\n– Pause – \nBéla Bartók\nMusik für Saiteninstru
 mente\, Schlagzeug und Celesta Sz 106
UID:event27825@Elbphilharmonie.de
URL:https://www.elbphilharmonie.de/de/programm/ndr-elbphilharmonie-orchest
 er-mao-fujita-cristian-macelaru/27825
END:VEVENT
END:VCALENDAR
