BEGIN:VCALENDAR
METHOD:PUBLISH
CALSCALE:GREGORIAN
PRODID:Elbphilharmonie
VERSION:2.0
BEGIN:VTIMEZONE
TZID:Europe/Berlin
BEGIN:DAYLIGHT
TZOFFSETFROM:+0100
TZOFFSETTO:+0200
TZNAME:CEST
DTSTART:20200329T010000
RRULE:FREQ=YEARLY;INTERVAL=1;BYDAY=-1SU;BYMONTH=3
END:DAYLIGHT
BEGIN:STANDARD
TZOFFSETFROM:+0200
TZOFFSETTO:+0100
TZNAME:CET
DTSTART:20201025T010000
RRULE:FREQ=YEARLY;INTERVAL=1;BYDAY=-1SU;BYMONTH=10
END:STANDARD
END:VTIMEZONE
BEGIN:VEVENT
DTSTAMP:20260423T214000Z
DTSTART:20270626T180000Z
DTEND:20270626T200000Z
LOCATION:Elbphilharmonie Großer Saal
SUMMARY:NDR Elbphilharmonie Orchester / Lisa Batiashvili / Alan Gilbert
DESCRIPTION:Besetzung\nNDR Elbphilharmonie Orchester\nLisa Batiashvili: Vi
 oline\nDirigent: Alan Gilbert\n\nProgramm\nLudwig van Beethoven\nKonzert f
 ür Violine und Orchester D-Dur op. 61\n– Pause – \nJohn Adams\nAbsol
 ute Jest für Streichquartett und Orchester\nRichard Strauss\nTill Eulensp
 iegels lustige Streiche op. 28
UID:event27865@Elbphilharmonie.de
URL:https://www.elbphilharmonie.de/de/programm/ndr-elbphilharmonie-orchest
 er-lisa-batiashvili-alan-gilbert/27865
END:VEVENT
END:VCALENDAR
