BEGIN:VCALENDAR
METHOD:PUBLISH
CALSCALE:GREGORIAN
PRODID:Elbphilharmonie
VERSION:2.0
BEGIN:VTIMEZONE
TZID:Europe/Berlin
BEGIN:DAYLIGHT
TZOFFSETFROM:+0100
TZOFFSETTO:+0200
TZNAME:CEST
DTSTART:20200329T010000
RRULE:FREQ=YEARLY;INTERVAL=1;BYDAY=-1SU;BYMONTH=3
END:DAYLIGHT
BEGIN:STANDARD
TZOFFSETFROM:+0200
TZOFFSETTO:+0100
TZNAME:CET
DTSTART:20201025T010000
RRULE:FREQ=YEARLY;INTERVAL=1;BYDAY=-1SU;BYMONTH=10
END:STANDARD
END:VTIMEZONE
BEGIN:VEVENT
DTSTAMP:20260423T130600Z
DTSTART:20270206T190000Z
DTEND:20270206T200000Z
LOCATION:Elbphilharmonie Großer Saal
SUMMARY:NDR Elbphilharmonie Orchester / Leif Ove Andsnes / Alan Gilbert
DESCRIPTION:Besetzung\nNDR Elbphilharmonie Orchester\nNDR Bigband\nLeif Ov
 e Andsnes: Klavier\nDirigent: Alan Gilbert\n\nProgramm\nMissy Mazzoli\nNeu
 es Klavierkonzert (Uraufführung)\nDarcy James Argue\nNeues Werk für Bigb
 and und Orchester (Uraufführung)
UID:event27844@Elbphilharmonie.de
URL:https://www.elbphilharmonie.de/de/programm/ndr-elbphilharmonie-orchest
 er-leif-ove-andsnes-alan-gilbert/27844
END:VEVENT
END:VCALENDAR
